BEGIN:VCALENDAR
VERSION:2.0
PRODID:-//Apollo Jbp Hospitals - ECPv6.15.12.2//NONSGML v1.0//EN
CALSCALE:GREGORIAN
METHOD:PUBLISH
X-WR-CALNAME:Apollo Jbp Hospitals
X-ORIGINAL-URL:https://apollojbphospitals.com
X-WR-CALDESC:Events for Apollo Jbp Hospitals
REFRESH-INTERVAL;VALUE=DURATION:PT1H
X-Robots-Tag:noindex
X-PUBLISHED-TTL:PT1H
BEGIN:VTIMEZONE
TZID:Asia/Kolkata
BEGIN:STANDARD
TZOFFSETFROM:+0530
TZOFFSETTO:+0530
TZNAME:IST
DTSTART:20240101T000000
END:STANDARD
END:VTIMEZONE
BEGIN:VEVENT
DTSTART;TZID=Asia/Kolkata:20251225T100000
DTEND;TZID=Asia/Kolkata:20251227T160000
DTSTAMP:20260421T183102
CREATED:20251223T081321Z
LAST-MODIFIED:20251223T082245Z
UID:34169-1766656800-1766851200@apollojbphospitals.com
SUMMARY:निःशुल्क नवजात शिशु स्वास्थ्य परामर्श शिविर | डॉ. राशि | अपोलो JBP हॉस्पिटल्स जबलपुर
DESCRIPTION:डॉ. राशि के साथ निःशुल्क नियोनेटोलॉजी शिविर – आपके नन्हे मेहमान का पूरा ख्याल\nतारीख: 25\, 26 एवं 27 दिसंबर 2025 (गुरुवार\, शुक्रवार\, शनिवार)\nसमय: सुबह 10 बजे से शाम 4 बजे तक\nस्थान: अपोलो JBP हॉस्पिटल्स\, न्यू आरटीओ ऑफिस के पास\, जबलपुर\nरजिस्ट्रेशन: 7566123666 या 9575300088 (सीमित स्लॉट\, पूर्व पंजीकरण अनिवार्य) \n\nप्रख्यात नियोनेटोलॉजिस्ट डॉ. राशि से निःशुल्क परामर्श प्राप्त करें\nअपोलो जेबीपी हॉस्पिटल्स\, जबलपुर में नवजात शिशु विशेषज्ञ डॉ. राशि आपके बच्चे की हर स्वास्थ्य चिंता का विशेषज्ञ समाधान लेकर आई हैं। दिल्ली के प्रतिष्ठित आरएमएल हॉस्पिटल से प्रशिक्षित डॉ. राशि नवजात शिशुओं की जटिल स्वास्थ्य समस्याओं के निदान और प्रबंधन में विशेषज्ञ हैं। \nडॉ. राशि की शैक्षणिक योग्यता:\n\n\nडीएम (नियोनेटोलॉजी) – नवजात शिशु विशेषज्ञ \n\n\nएमडी (पीडियाट्रिक्स) – बाल रोग विशेषज्ञ \n\n\nदिल्ली के आरएमएल हॉस्पिटल से विशेष प्रशिक्षण \n\n\nप्रमाणित स्तनपान परामर्शदाता (लैक्टेशन कंसल्टेंट) \n\n\n\nकिन समस्याओं के लिए है यह निःशुल्क नवजात शिशु परामर्श शिविर?\nइस विशेष 3-दिवसीय शिविर में डॉ. राशि से निःशुल्क परामर्श प्राप्त करें: \n👶 जन्म के तुरंत बाद की समस्याएं:\n\n\nशिशु का वजन कम होना (1.5 किलो से कम) \n\n\nसमय से पहले जन्म (प्रीमेच्योर बेबी) की देखभाल \n\n\nजन्मजात पीलिया (नेोनेटल जॉन्डिस) का प्रबंधन \n\n\nशिशु को साँस लेने में परेशानी (रेस्पिरेटरी डिस्ट्रेस) \n\n\nजन्मजात हृदय या अन्य अंग संबंधी समस्याएं \n\n\n🍼 स्तनपान एवं पोषण संबंधी मार्गदर्शन:\n\n\nशिशु को दूध पीने में समस्या \n\n\nस्तनपान संबंधी किसी भी समस्या का समाधान \n\n\nबोतल से दूध पिलाने की सही तकनीक \n\n\nशिशु के लिए उचित पोषण योजना \n\n\nवजन बढ़ाने के लिए विशेष आहार परामर्श \n\n\n🩺 सामान्य शिशु स्वास्थ्य समस्याएं:\n\n\nत्वचा पर रैश या संक्रमण \n\n\nशिशु का अत्यधिक रोना या कम प्रतिक्रिया देना \n\n\nबार-बार होने वाली बीमारियाँ \n\n\nबुखार\, खांसी\, जुकाम का प्रबंधन \n\n\nपेट दर्द\, गैस\, कब्ज की समस्या \n\n\n📈 विकास एवं टीकाकरण:\n\n\nशिशु का विकास ठीक से न होना \n\n\nमीलस्टोन (बैठना\, रेंगना\, चलना) में देरी \n\n\nविकास मूल्यांकन एवं हस्तक्षेप योजना \n\n\n7 स्टार टीकाकरण परामर्श \n\n\nटीकाकरण कार्यक्रम की पूरी जानकारी \n\n\n\nक्यों चुनें डॉ. राशि और अपोलो जेबीपी हॉस्पिटल्स?\n🏆 विशेषज्ञता एवं अनुभव:\nडॉ. राशि एक प्रमाणित नियोनेटोलॉजिस्ट हैं\, जिन्हें नवजात शिशुओं की जटिल समस्याओं के प्रबंधन में विशेष प्रशिक्षण प्राप्त है। उनकी विशेषज्ञता में शामिल है: \n\n\nकम वजन वाले और समय से पहले जन्मे शिशुओं की विशेष देखभाल \n\n\nनवजात आपातकालीन स्थितियों का प्रबंधन \n\n\nशिशु पुनर्जीवन (नियोनेटल रिससिटेशन) में विशेष प्रशिक्षण \n\n\nस्तनपान संबंधी समस्याओं का विशेषज्ञ समाधान \n\n\n🏥 अत्याधुनिक नियोनेटल सुविधाएं:\nअपोलो जेबीपी हॉस्पिटल्स में नवजात शिशुओं के लिए पूर्ण सुविधाएं उपलब्ध हैं: \n\n\nआधुनिक नियोनेटल इंटेंसिव केयर यूनिट (NICU) \n\n\nशिशु मॉनिटरिंग सिस्टम \n\n\nफोटोथेरेपी यूनिट्स (पीलिया उपचार के लिए) \n\n\nअनुभवी नियोनेटल नर्सिंग स्टाफ \n\n\nशिशु-अनुकूल वातावरण \n\n\n🌟 डॉ. राशि की विशेष सेवाएं:\n\n\nव्यक्तिगत विकास योजना: प्रत्येक शिशु के लिए अनुकूलित देखभाल योजना \n\n\nस्तनपान क्लिनिक: स्तनपान संबंधी सभी समस्याओं का समाधान \n\n\nटीकाकरण गाइडेंस: संपूर्ण टीकाकरण कार्यक्रम की निःशुल्क सलाह \n\n\nपोषण परामर्श: शिशु के उम्र के अनुसार उचित पोषण मार्गदर्शन \n\n\n24×7 टेलीफोनिक सलाह: आपात स्थिति में तुरंत मार्गदर्शन \n\n\n\nशिविर में क्या उपलब्ध होगा?\n\n\nनिःशुल्क विशेषज्ञ परामर्श – डॉ. राशि द्वारा व्यक्तिगत रूप से \n\n\nशिशु का पूर्ण स्वास्थ्य जांच – वजन\, लंबाई\, सिर परिधि मापन \n\n\nविकास मूल्यांकन – उम्र के अनुसार विकास की जांच \n\n\nस्तनपान तकनीक मार्गदर्शन – व्यावहारिक प्रदर्शन के साथ \n\n\nटीकाकरण कार्यक्रम समीक्षा – अगले टीकों की पूरी जानकारी \n\n\nआहार परामर्श – शिशु की उम्र के अनुसार भोजन योजना \n\n\nप्रश्नोत्तर सत्र – सभी शंकाओं का विस्तृत समाधान \n\n\n\nरजिस्ट्रेशन प्रक्रिया एवं महत्वपूर्ण जानकारी\n📞 कैसे रजिस्टर करें?\n\n\nफोन करें: 7566123666 या 9575300088 पर संपर्क करें \n\n\nमाता-पिता व शिशु का विवरण दर्ज कराएं \n\n\nपसंदीदा तारीख व समय की पुष्टि करें \n\n\nशिविर दिवस पर निर्धारित समय पर पहुंचें \n\n\nशिशु का मूल स्वास्थ्य रिकॉर्ड (यदि उपलब्ध हो) साथ लाएं \n\n\n⚠️ महत्वपूर्ण नोट:\n\n\nपूर्व पंजीकरण अनिवार्य है (चलित पंजीकरण उपलब्ध नहीं) \n\n\nसीमित स्लॉट उपलब्ध हैं\, इसलिए जल्दी बुक करें \n\n\nकृपया शिशु का जन्म प्रमाण पत्र साथ लाएं \n\n\nपिछली मेडिकल रिपोर्ट्स (यदि उपलब्ध हों) साथ लाएं \n\n\nएक अतिरिक्त व्यस्क साथ लाने की सलाह दी जाती है \n\n\n🏥 शिविर दिवस पर ध्यान देने योग्य बातें:\n\n\nशिविर स्थल पर शिशु के लिए बेबी चेंजिंग स्टेशन उपलब्ध है \n\n\nस्तनपान कक्ष की सुविधा उपलब्ध है \n\n\nशिशु के लिए आपातकालीन दवाएं अस्पताल में उपलब्ध हैं \n\n\nनिःशुल्क पार्किंग सुविधा उपलब्ध है \n\n\n\nअपोलो जेबीपी हॉस्पिटल्स – शिशु स्वास्थ्य में विश्वसनीयता\nअपोलो जेबीपी हॉस्पिटल्स\, जबलपुर में हम शिशु स्वास्थ्य को विशेष प्राथमिकता देते हैं। हमारा उद्देश्य है कि हर नवजात शिशु को विशेषज्ञ देखभाल और सही मार्गदर्शन मिले। \n🚨 आपातकालीन नियोनेटल सेवाएं:\n\n\n24×7 नियोनेटल आपातकालीन सेवाएं उपलब्ध \n\n\nLEVEL – 3 नियोनेटल इंटेंसिव केयर यूनिट (NICU) संचालित \n\n\nअनुभवी नियोनेटोलॉजिस्ट की 24 घंटे उपलब्धता \n\n\nआपातकालीन हेल्पलाइन: 1800-123-6666 \n\n\n🌐 अधिक जानकारी के लिए:\n\n\nवेबसाइट: www.apollojbphospitals.com \n\n\nईमेल: pediatrics@apollojbphospitals.com \n\n\nपता: अपोलो जेबीपी हॉस्पिटल्स\, न्यू आरटीओ ऑफिस के पास\, जबलपुर \n\n\nGoogle Maps: अपोलो JBP हॉस्पिटल्स जबलपुर \n\n\n\nअक्सर पूछे जाने वाले प्रश्न (FAQ)\nQ1: क्या यह परामर्श पूरी तरह निःशुल्क है?\nहाँ\, यह 3-दिवसीय नवजात शिशु परामर्श शिविर पूरी तरह निःशुल्क है। कोई परामर्श शुल्क नहीं लिया जाएगा। \nQ2: किस उम्र के शिशु इस शिविर में आ सकते हैं?\nयह शिविर नवजात शिशुओं (जन्म से 28 दिन) और शिशुओं (1 महीने से 2 वर्ष) के लिए है। \nQ3: क्या डॉ. राशि आपातकालीन स्थिति में भी उपलब्ध हैं?\nहाँ\, डॉ. राशि अस्पताल के नियोनेटल आपातकालीन विभाग में भी सेवाएं प्रदान करती हैं। आपात स्थिति में 1800-123-6666 पर संपर्क करें। \nQ4: शिविर में क्या कोई दवा निःशुल्क मिलेगी?\nशिविर में निःशुल्क परामर्श उपलब्ध है। दवाएं अलग से खरीदनी होंगी\, लेकिन डॉक्टर आवश्यक दवाओं की सलाह देंगी। \nQ5: क्या गर्भवती महिलाएं भी इस शिविर में आ सकती हैं?\nयह शिविर विशेष रूप से नवजात शिशुओं और शिशुओं के लिए है। गर्भवती महिलाओं के लिए अलग प्रसव पूर्व कक्षाएं आयोजित की जाती हैं। \nQ6: रजिस्ट्रेशन के बाद कैंसल किया जा सकता है?\nहाँ\, आवश्यकता पड़ने पर आप रजिस्ट्रेशन कैंसल कर सकते हैं ताकि दूसरे शिशु उस स्लॉट का लाभ उठा सकें। \nQ7: क्या शिविर में शिशु का टीकाकरण भी होगा?\nशिविर में टीकाकरण पर विस्तृत परामर्श दिया जाएगा\, लेकिन टीकाकरण प्रक्रिया अस्पताल के नियमित टीकाकरण कक्ष में ही की जाएगी। \nQ8: क्या समय से पहले जन्मे शिशुओं (प्रीमेच्योर) के लिए विशेष परामर्श उपलब्ध है?\nहाँ\, डॉ. राशि प्रीमेच्योर शिशुओं की देखभाल में विशेषज्ञ हैं। शिविर में उनके लिए विशेष परामर्श सत्र उपलब्ध होंगे। \n\nशिशु स्वास्थ्य के प्रति हमारा संकल्प\nअपोलो जेबीपी हॉस्पिटल्स में हम मानते हैं कि एक स्वस्थ शिशु स्वस्थ समाज की नींव है। इसी विश्वास के साथ हम यह विशेष शिविर आयोजित कर रहे हैं ताकि हर माता-पिता बिना किसी आर्थिक बोझ के अपने नन्हे मेहमान के लिए विशेषज्ञ चिकित्सकीय सलाह प्राप्त कर सकें। \nआपके शिशु का स्वस्थ भविष्य\, हमारी प्राथमिकता। \n📅 तारीखें याद रखें: 25\, 26\, 27 दिसंबर 2025\n📞 तुरंत रजिस्टर करें: 7566123666 या 9575300088\n🏥 पता: अपोलो JBP हॉस्पिटल्स\, न्यू आरटीओ ऑफिस के पास\, जबलपुर
URL:https://apollojbphospitals.com/event/%e0%a4%a8%e0%a4%bf%e0%a4%83%e0%a4%b6%e0%a5%81%e0%a4%b2%e0%a5%8d%e0%a4%95-%e0%a4%b6%e0%a4%bf%e0%a4%b6%e0%a5%81-%e0%a4%b8%e0%a5%8d%e0%a4%b5%e0%a4%be%e0%a4%b8%e0%a5%8d%e0%a4%a5%e0%a5%8d%e0%a4%af/
CATEGORIES:Free Checkup Camp
ATTACH;FMTTYPE=image/jpeg:https://apollojbphospitals.com/wp-content/uploads/2025/12/WhatsApp-Image-2025-12-22-at-12.03.43-PM-1.jpeg
END:VEVENT
BEGIN:VEVENT
DTSTART;TZID=Asia/Kolkata:20251225T100000
DTEND;TZID=Asia/Kolkata:20251227T160000
DTSTAMP:20260421T183102
CREATED:20251223T075934Z
LAST-MODIFIED:20251223T080246Z
UID:34164-1766656800-1766851200@apollojbphospitals.com
SUMMARY:निःशुल्क स्त्री रोग परामर्श शिविर | डॉ. मनीषा उद्दे | अपोलो जेबीपी हॉस्पिटल्स जबलपुर
DESCRIPTION:डॉ. मनीषा उद्दे के साथ 3-दिवसीय निःशुल्क स्त्री रोग शिविर में अपनी सभी स्वास्थ्य चिंताओं का समाधान पाएँ\n\n\nतारीख: 25\, 26 एवं 27 दिसंबर 2025 (गुरुवार\, शुक्रवार\, शनिवार)\nसमय: सुबह 10 बजे से शाम 4 बजे तक\nस्थान: अपोलो जेबीपी हॉस्पिटल्स\, न्यू आरटीओ ऑफिस के पास\, जबलपुर\nरजिस्ट्रेशन: 7566123666 या 9575300088 (सीमित स्लॉट\, पूर्व पंजीकरण अनिवार्य) \n\nप्रख्यात स्त्री रोग विशेषज्ञ डॉ. मनीषा उद्दे से मिलें\nअपोलो जेबीपी हॉस्पिटल्स\, जबलपुर में डॉ. मनीषा उद्दे आपकी सभी महिला स्वास्थ्य समस्याओं का विशेषज्ञ समाधान लेकर आई हैं। दिल्ली के प्रतिष्ठित कस्तूरबा गांधी अस्पताल और गुरुग्राम के वर्ल्ड लैप्रोस्कोपिक हॉस्पिटल से प्रशिक्षित डॉ. मनीषा उद्दे को उन्नत लैप्रोस्कोपिक एवं हिस्टेरोस्कोपिक सर्जरी में विशेष महारत हासिल है। \nडॉ. मनीषा उद्दे की शैक्षणिक योग्यता:\n\n\nएमएस (प्रसूति एवं स्त्री रोग) \n\n\nडीएमएस\, फेलोशिप इन मिनिमल इनवेसिव सर्जरी (लैप्रोस्कोपिक सर्जरी) \n\n\nदिल्ली व गुरुग्राम के प्रमुख अस्पतालों से विशेष प्रशिक्षण \n\n\n\nकिन समस्याओं के लिए है यह निःशुल्क परामर्श शिविर?\nइस विशेष 3-दिवसीय शिविर में डॉ. मनीषा उद्दे से निःशुल्क परामर्श प्राप्त करें: \n🩺 सामान्य स्त्री रोग संबंधी समस्याएं:\n\n\nपेट के निचले हिस्से में दर्द \n\n\nमाहवारी में अत्यधिक दर्द या रक्तस्राव \n\n\nयोनि में खुजली\, जलन या संक्रमण \n\n\nसफेद पानी (व्हाइट डिस्चार्ज) की समस्या \n\n\nहार्मोनल असंतुलन के लक्षण \n\n\n🤰 प्रसूति एवं गर्भावस्था संबंधी देखभाल:\n\n\nगर्भावस्था से जुड़ी समस्याएँ \n\n\nप्रसव पूर्व एवं प्रसव बाद देखभाल \n\n\nबार-बार गर्भपात की समस्या \n\n\nगर्भधारण में कठिनाई (बांझपन) \n\n\n🔬 विशेष स्थितियों का प्रबंधन:\n\n\nपीसीओडी / पीसीओएस प्रबंधन \n\n\nगर्भाशय की गांठ / सिस्ट का इलाज \n\n\nरजोनिवृत्ति (मेनोपॉज़) से जुड़ी परेशानियाँ \n\n\nउन्नत लैप्रोस्कोपिक सर्जरी के लिए परामर्श \n\n\n\nक्यों चुनें डॉ. मनीषा उद्दे और अपोलो जेबीपी हॉस्पिटल्स?\n🏆 विशेषज्ञता एवं अनुभव:\nडॉ. मनीषा उद्दे को कीहोल सर्जरी (लैप्रोस्कोपिक) में विशेष प्रशिक्षण प्राप्त है\, जिससे रोगियों को निम्नलिखित लाभ मिलते हैं: \n\n\nछोटे चीरे\, कम दर्द \n\n\nतेजी से रिकवरी \n\n\nकम निशान\, बेहतर कॉस्मेटिक परिणाम \n\n\nकम अस्पताल में रहने का समय \n\n\n🏥 अत्याधुनिक सुविधाएं:\nअपोलो जेबीपी हॉस्पिटल्स में महिला स्वास्थ्य के लिए पूर्ण सुविधाएं उपलब्ध हैं: \n\n\nउन्नत लैप्रोस्कोपिक ऑपरेशन थिएटर \n\n\nआधुनिक डायग्नोस्टिक लैब \n\n\nअनुभवी नर्सिंग स्टाफ \n\n\nमरीज-अनुकूल वातावरण \n\n\n\nशिविर में क्या उपलब्ध होगा?\n\n\nनिःशुल्क विशेषज्ञ परामर्श – डॉ. मनीषा उद्दे द्वारा व्यक्तिगत रूप से \n\n\nपूर्ण गोपनीयता के साथ स्वास्थ्य जांच \n\n\nउपचार योजना की विस्तृत जानकारी \n\n\nआगे की जांच व उपचार के लिए मार्गदर्शन \n\n\nप्रश्नोत्तर सत्र – सभी शंकाओं का समाधान \n\n\n\nरजिस्ट्रेशन प्रक्रिया एवं महत्वपूर्ण जानकारी\n📞 कैसे रजिस्टर करें?\n\n\nफोन करें: 7566123666 या 9575300088 पर संपर्क करें \n\n\nनाम व संपर्क विवरण दर्ज कराएं \n\n\nपसंदीदा तारीख व समय की पुष्टि करें \n\n\nशिविर दिवस पर निर्धारित समय पर पहुंचें \n\n\n⚠️ महत्वपूर्ण नोट:\n\n\nपूर्व पंजीकरण अनिवार्य है \n\n\nसीमित स्लॉट उपलब्ध हैं\, इसलिए जल्दी बुक करें \n\n\nकृपया पहचान पत्र साथ लाएं \n\n\nपिछली मेडिकल रिपोर्ट्स (यदि उपलब्ध हों) साथ लाएं \n\n\n\nअपोलो जेबीपी हॉस्पिटल्स – महिला स्वास्थ्य में विश्वसनीयता\nअपोलो जेबीपी हॉस्पिटल्स\, जबलपुर में हम महिला स्वास्थ्य को विशेष प्राथमिकता देते हैं। हमारा उद्देश्य है कि हर महिला को गुणवत्तापूर्ण\, सुलभ और सम्मानजनक स्वास्थ्य सेवाएं मिलें। \n🚨 आपातकालीन सेवाएं:\n24×7 आपातकालीन स्त्री रोग सेवाएं उपलब्ध\nआपातकालीन हेल्पलाइन: 1800-123-6666 \n🌐 अधिक जानकारी के लिए:\nवेबसाइट: www.apollojbphospitals.com\nपता: अपोलो जेबीपी हॉस्पिटल्स\, न्यू आरटीओ ऑफिस के पास\, जबलपुर \n\nअक्सर पूछे जाने वाले प्रश्न (FAQ)\nQ1: क्या यह परामर्श पूरी तरह निःशुल्क है?\nहाँ\, यह 3-दिवसीय परामर्श शिविर पूरी तरह निःशुल्क है। \nQ2: क्या डॉ. मनीषा उद्दे सर्जरी भी करेंगी?\nहाँ\, डॉ. मनीषा उद्दे उन्नत लैप्रोस्कोपिक सर्जरी में विशेषज्ञ हैं। शिविर में परामर्श के बाद आवश्यकता पड़ने पर सर्जरी की योजना बनाई जा सकती है। \nQ3: क्या किशोरावस्था की लड़कियाँ भी इस शिविर में आ सकती हैं?\nहाँ\, यह शिविर हर उम्र की महिलाओं और किशोरियों के लिए है। \nQ4: क्या गर्भवती महिलाएं भी परामर्श ले सकती हैं?\nहाँ\, गर्भवती महिलाओं के लिए प्रसव पूर्व देखभाल और परामर्श उपलब्ध है। \nQ5: रजिस्ट्रेशन के बाद कैंसल किया जा सकता है?\nहाँ\, आवश्यकता पड़ने पर आप रजिस्ट्रेशन कैंसल कर सकते हैं ताकि दूसरी महिला उस स्लॉट का लाभ उठा सकें। \n\nमहिला स्वास्थ्य के प्रति हमारा संकल्प\nअपोलो जेबीपी हॉस्पिटल्स में हम मानते हैं कि एक स्वस्थ महिला पूरे परिवार को स्वस्थ रखती है। इसी विश्वास के साथ हम यह विशेष शिविर आयोजित कर रहे हैं ताकि हर महिला बिना किसी झिझक या आर्थिक बोझ के विशेषज्ञ चिकित्सकीय सलाह प्राप्त कर सके। \nआपका स्वास्थ्य\, हमारी प्राथमिकता। \n📅 तारीखें याद रखें: 25\, 26\, 27 दिसंबर 2025\n📞 तुरंत रजिस्टर करें: 7566123666 या 9575300088
URL:https://apollojbphospitals.com/event/%e0%a4%a8%e0%a4%bf%e0%a4%83%e0%a4%b6%e0%a5%81%e0%a4%b2%e0%a5%8d%e0%a4%95-%e0%a4%ae%e0%a4%b9%e0%a4%bf%e0%a4%b2%e0%a4%be-%e0%a4%b8%e0%a5%8d%e0%a4%b5%e0%a4%be%e0%a4%b8%e0%a5%8d%e0%a4%a5/
CATEGORIES:Free Checkup Camp
ATTACH;FMTTYPE=image/jpeg:https://apollojbphospitals.com/wp-content/uploads/2025/12/WhatsApp-Image-2025-12-22-at-12.03.43-PM-2.jpeg
END:VEVENT
BEGIN:VEVENT
DTSTART;TZID=Asia/Kolkata:20250603T110000
DTEND;TZID=Asia/Kolkata:20250603T143000
DTSTAMP:20260421T183102
CREATED:20250531T180756Z
LAST-MODIFIED:20251021T111845Z
UID:19199-1748948400-1748961000@apollojbphospitals.com
SUMMARY:Fibro Scan for Fatty Liver Free Health Checkup Camp at Apollo JBP Hospitals
DESCRIPTION:Fatty Liver Free Fibro Scan Checkup Camp at Apollo JBP Hospitals\, Jabalpur\nनि:शुल्क फाइब्रोस्कैन (फैटी लिवर) जाँच शिविर\n‍⚕️ जाँच करेंगे – प्रसिद्ध गैस्ट्रोएंटरोलॉजिस्ट डॉ. अरुण अय्यरMBBS\, MD\, DM – GastroenterologySpecialist in Advanced Endoscopy(Trained from England & Mumbai) \n️ तारीखें: 3 जून\, 11 जून\, 13 जून 2025 (तीन दिवसीय)समय: सुबह 10 बजे से दोपहर 2:30 बजे तकस्थान: Apollo JBP Hospitals\, न्यू RTO ऑफिस के पास\, जबलपुर \nकिसे करानी चाहिए यह जांच? \n\n\nजिन्हें मोटापा\, मधुमेह या हाई कोलेस्ट्रॉल है \n\n\nजिन्हें हेपेटाइटिस B/C है \n\n\nजिनमें पाचन संबंधी समस्याएं हैं \n\n\nजिन्हें भूख कम लगती है \n\n\nजो शराब का अधिक सेवन करते हैं \n\n\nजिन्हें लिवर सिरोसिस या फैटी लिवर की बीमारी है \n\n\nपंजीकरण हेतु कॉल करें: 7566123666\, 9575300088https://apollojbphospitals.com/fibroscan-for-fatty-liver-free-health-checkup-camp/ \nपूर्व पंजीकरण अनिवार्य है!Limited slots available – Book now to secure your free test.
URL:https://apollojbphospitals.com/event/fibro-scan-for-fatty-liver-free-health-checkup-camp/
LOCATION:Department of Gastro Sciences\, Apollo JBP Hospitals\, Apollo JBP Hospitals\, Global Square\, Patan Rd\, Karmeta\, Jabalpur\, Madhya Pradesh\, 482002\, India
CATEGORIES:Free Checkup Camp
ATTACH;FMTTYPE=image/jpeg:https://apollojbphospitals.com/wp-content/uploads/2025/05/fibroscan-fatty-liver-free-checkup-camp-at-apollo-jbp-hospitals-jabalpur.jpeg
ORGANIZER;CN="Apollo JBP Hospitals":MAILTO:connect@ApolloJbpHospitals.com
END:VEVENT
BEGIN:VEVENT
DTSTART;TZID=Asia/Kolkata:20250323T100000
DTEND;TZID=Asia/Kolkata:20250323T160000
DTSTAMP:20260421T183102
CREATED:20250319T090115Z
LAST-MODIFIED:20251021T112226Z
UID:13818-1742724000-1742745600@apollojbphospitals.com
SUMMARY:निःशुल्क परामर्श शिविर - डॉ. रामानी नरसिम्हन (बच्चों की हड्डियों के विशेषज्ञ) अपोलो हॉस्पिटल्स इंद्रप्रस्थ\, दिल्ली से जुड़े
DESCRIPTION:विख्यात पीडियाट्रिक ऑर्थोपेडिक सर्जन (बच्चों की हड्डियों के विशेषज्ञ ) \nदिनांक : रविवार 23 मार्च 2025 \nसमय : सुबह 10 बजे से शाम 4 बजे तक । \nस्थान : ऑर्थोपेडिक विभाग\, अपोलो हॉस्पिटल\, जबलपुर \nअनुभवी पीडियाट्रिक ऑर्थोपेडिक सर्जन – डॉ. रामानी नरसिम्हन के पास 28 वर्षों का अनुभव है\nऔर वे अपोलो हॉस्पिटल्स इंद्रप्रस्थ\, दिल्ली से जुड़े हैं। \nबच्चों की हड्डियों से संबंधित निम्न विकृतियाँ \n\nफ्लेट फुट (सपाट तलवे)\nबो लेग्स् (धनुषाकार पैर)\nपेनफुल ज्वाइंट (जोड़ों में दर्द)\nक्लब फुट (पैरों का तिरछापन)\nफ्रेक्चर (नये एवं पुराने)\nहिप्स् व घुटने का खिसकना\nनाॅक नीज् (घुटनों का आपस में छूना)\nविकृत हाथ/कलाई (हड्डियों का तिरछापन)
URL:https://apollojbphospitals.com/event/pediatric-orthopaedics-free-checkup-camp/
LOCATION:Orthopaedics Department\, Apollo JBP Hospitals\, Jabalpur\, Madhya Pradesh\, 482002\, India
CATEGORIES:Free Checkup Camp
ATTACH;FMTTYPE=image/jpeg:https://apollojbphospitals.com/wp-content/uploads/2025/03/Dr.-Ramani-Sir-Add-Design-16x9-Design.jpg
ORGANIZER;CN="Apollo JBP Hospitals":MAILTO:connect@ApolloJbpHospitals.com
END:VEVENT
END:VCALENDAR